BEGIN:VCALENDAR
VERSION:2.0
PRODID:-//www.coalitionrx.org//NONSGML kigkonsult.se iCalcreator 2.30.10//
CALSCALE:GREGORIAN
METHOD:PUBLISH
UID:673feb21-bf20-49f5-9b55-164b60c61f12
X-WR-CALDESC:
X-WR-RELCALID:bf5422cb90a97bd267a9c6cd1d57930a
X-WR-TIMEZONE:America/Chicago
BEGIN:VTIMEZONE
TZID:America/Chicago
BEGIN:STANDARD
TZNAME:CST
DTSTART:20261101T020000
TZOFFSETFROM:-0500
TZOFFSETTO:-0600
RDATE:20271107T020000
RDATE:20281105T020000
END:STANDARD
BEGIN:DAYLIGHT
TZNAME:CDT
DTSTART:20270314T020000
TZOFFSETFROM:-0600
TZOFFSETTO:-0500
RDATE:20280312T020000
RDATE:20290311T020000
END:DAYLIGHT
END:VTIMEZONE
BEGIN:VEVENT
UID:977f33e9-c319-457e-a066-0ed3a4df9823
DTSTAMP:20260425T223958Z
DESCRIPTION:
DTSTART;TZID=America/Chicago:20270921T071500
DTEND;TZID=America/Chicago:20270921T081500
LOCATION:
SUMMARY:Coalition Rx Board Meeting
END:VEVENT
END:VCALENDAR
