BEGIN:VCALENDAR
VERSION:2.0
PRODID:-//www.coalitionrx.org//NONSGML kigkonsult.se iCalcreator 2.30.10//
CALSCALE:GREGORIAN
METHOD:PUBLISH
UID:073f5afc-df07-4f1d-9848-43168709ad85
X-WR-CALDESC:
X-WR-RELCALID:420dae23de07981e1e4fb048b462fa55
X-WR-TIMEZONE:America/Chicago
BEGIN:VTIMEZONE
TZID:America/Chicago
BEGIN:STANDARD
TZNAME:CST
DTSTART:20261101T020000
TZOFFSETFROM:-0500
TZOFFSETTO:-0600
RDATE:20271107T020000
END:STANDARD
BEGIN:DAYLIGHT
TZNAME:CDT
DTSTART:20270314T020000
TZOFFSETFROM:-0600
TZOFFSETTO:-0500
RDATE:20280312T020000
END:DAYLIGHT
END:VTIMEZONE
BEGIN:VEVENT
UID:c2d85fb2-69db-4c4d-98cf-feae508db603
DTSTAMP:20260425T121332Z
DESCRIPTION:
DTSTART;TZID=America/Chicago:20270316T071500
DTEND;TZID=America/Chicago:20270316T081500
LOCATION:
SUMMARY:Coalition Rx Board Meeting
END:VEVENT
END:VCALENDAR
