BEGIN:VCALENDAR
VERSION:2.0
PRODID:-//www.coalitionrx.org//NONSGML kigkonsult.se iCalcreator 2.30.10//
CALSCALE:GREGORIAN
METHOD:PUBLISH
UID:7f38e73d-7218-46d6-9cf9-6e8aecd33143
X-WR-CALDESC:
X-WR-RELCALID:509374e4644a7d23232a63e6e3bb885b
X-WR-TIMEZONE:America/Chicago
BEGIN:VTIMEZONE
TZID:America/Chicago
BEGIN:STANDARD
TZNAME:CST
DTSTART:20261101T020000
TZOFFSETFROM:-0500
TZOFFSETTO:-0600
RDATE:20271107T020000
END:STANDARD
BEGIN:DAYLIGHT
TZNAME:CDT
DTSTART:20260308T020000
TZOFFSETFROM:-0600
TZOFFSETTO:-0500
RDATE:20270314T020000
RDATE:20280312T020000
END:DAYLIGHT
END:VTIMEZONE
BEGIN:VEVENT
UID:e9951a5d-bd53-4397-b56f-eb635bb0833d
DTSTAMP:20260423T055234Z
DESCRIPTION:
DTSTART;TZID=America/Chicago:20261117T071500
DTEND;TZID=America/Chicago:20261117T081500
LOCATION:
SUMMARY:Coalition Rx Board Meeting
END:VEVENT
END:VCALENDAR
