BEGIN:VCALENDAR
VERSION:2.0
PRODID:-//www.coalitionrx.org//NONSGML kigkonsult.se iCalcreator 2.30.10//
CALSCALE:GREGORIAN
METHOD:PUBLISH
UID:ca167faa-39a4-4d18-9348-6bcbe6f65147
X-WR-CALDESC:
X-WR-RELCALID:bbfded4586b67d6b2ff00c1aadb92840
X-WR-TIMEZONE:America/Chicago
BEGIN:VTIMEZONE
TZID:America/Chicago
BEGIN:STANDARD
TZNAME:CST
DTSTART:20251102T020000
TZOFFSETFROM:-0500
TZOFFSETTO:-0600
RDATE:20261101T020000
RDATE:20271107T020000
END:STANDARD
BEGIN:DAYLIGHT
TZNAME:CDT
DTSTART:20260308T020000
TZOFFSETFROM:-0600
TZOFFSETTO:-0500
RDATE:20270314T020000
RDATE:20280312T020000
END:DAYLIGHT
END:VTIMEZONE
BEGIN:VEVENT
UID:7ad517e2-e690-4f2e-9234-08a4f4c31b1a
DTSTAMP:20260423T030922Z
DESCRIPTION:
DTSTART;TZID=America/Chicago:20260915T071500
DTEND;TZID=America/Chicago:20260915T081500
LOCATION:
SUMMARY:Coalition Rx Board Meeting
END:VEVENT
END:VCALENDAR
