BEGIN:VCALENDAR
VERSION:2.0
PRODID:-//www.coalitionrx.org//NONSGML kigkonsult.se iCalcreator 2.30.10//
CALSCALE:GREGORIAN
METHOD:PUBLISH
UID:5334847d-55a0-4d22-a8a9-0aabb1598957
X-WR-CALDESC:
X-WR-RELCALID:201b8c2dd8b3facaafc999697a5a6c09
X-WR-TIMEZONE:America/Chicago
BEGIN:VTIMEZONE
TZID:America/Chicago
BEGIN:STANDARD
TZNAME:CST
DTSTART:20251102T020000
TZOFFSETFROM:-0500
TZOFFSETTO:-0600
RDATE:20261101T020000
RDATE:20271107T020000
END:STANDARD
BEGIN:DAYLIGHT
TZNAME:CDT
DTSTART:20260308T020000
TZOFFSETFROM:-0600
TZOFFSETTO:-0500
RDATE:20270314T020000
END:DAYLIGHT
END:VTIMEZONE
BEGIN:VEVENT
UID:eb5e5608-9067-4625-8cea-1fa1e7a19e9a
DTSTAMP:20260423T002952Z
DESCRIPTION:
DTSTART;TZID=America/Chicago:20260721T071500
DTEND;TZID=America/Chicago:20260721T081500
LOCATION:
SUMMARY:Coalition Rx Board Meeting
END:VEVENT
END:VCALENDAR
