BEGIN:VCALENDAR
VERSION:2.0
PRODID:-//www.coalitionrx.org//NONSGML kigkonsult.se iCalcreator 2.30.10//
CALSCALE:GREGORIAN
METHOD:PUBLISH
UID:bcc755c3-7717-405a-81fa-22b66920d8e6
X-WR-CALDESC:
X-WR-RELCALID:f3367a97fe87933583787f0e525193bc
X-WR-TIMEZONE:America/Chicago
BEGIN:VTIMEZONE
TZID:America/Chicago
BEGIN:STANDARD
TZNAME:CST
DTSTART:20191103T020000
TZOFFSETFROM:-0500
TZOFFSETTO:-0600
RDATE:20201101T020000
END:STANDARD
BEGIN:DAYLIGHT
TZNAME:CDT
DTSTART:20190310T020000
TZOFFSETFROM:-0600
TZOFFSETTO:-0500
RDATE:20200308T020000
RDATE:20210314T020000
END:DAYLIGHT
END:VTIMEZONE
BEGIN:VEVENT
UID:7c0a60bd-432e-4859-8a84-29a2ae2ac94d
DTSTAMP:20260424T194120Z
DESCRIPTION:
DTSTART;TZID=America/Chicago:20191113T180000
DTEND;TZID=America/Chicago:20191113T200000
LOCATION:
SUMMARY:Too Good for Drugs and Violence Event
END:VEVENT
END:VCALENDAR
